BEGIN:VCALENDAR
VERSION:2.0
PRODID:-//Diligex - ECPv6.14.2//NONSGML v1.0//EN
CALSCALE:GREGORIAN
METHOD:PUBLISH
X-WR-CALNAME:Diligex
X-ORIGINAL-URL:https://diligex.eu
X-WR-CALDESC:Events for Diligex
REFRESH-INTERVAL;VALUE=DURATION:PT1H
X-Robots-Tag:noindex
X-PUBLISHED-TTL:PT1H
BEGIN:VTIMEZONE
TZID:Europe/Malta
BEGIN:DAYLIGHT
TZOFFSETFROM:+0100
TZOFFSETTO:+0200
TZNAME:CEST
DTSTART:20250330T010000
END:DAYLIGHT
BEGIN:STANDARD
TZOFFSETFROM:+0200
TZOFFSETTO:+0100
TZNAME:CET
DTSTART:20251026T010000
END:STANDARD
END:VTIMEZONE
BEGIN:VEVENT
DTSTART;TZID=Europe/Malta:20251028T093000
DTEND;TZID=Europe/Malta:20251028T113000
DTSTAMP:20260419T194044
CREATED:20251002T091041Z
LAST-MODIFIED:20251027T085215Z
UID:10000003-1761643800-1761651000@diligex.eu
SUMMARY:AML/CFT Training Webinar
DESCRIPTION:Beyond the Checklist: Enhancing CRA for AML/CFT Compliance\n  \nDuration: 2 hours (Including Q&A)\nDate: 28th October 2025\nTime: 9.30 AM\nFee: € 35 (exclusive of VAT) \nIf three or more registrants from the same entity are registered concurrently\, a 15% discount applies. \n  \nTopic Overview: \nA robust Customer Risk Assessment (CRA) lies at the core of an effective AML/CFT compliance program. This training session will explore the legal framework\, regulatory expectations\, and practical implementation of the CRA as a key element of the Risk-Based Approach (RBA). \nThe session will delve into: \n\nThe legal and regulatory background of the Customer Risk Assessment\nUnderstanding the Risk-Based Approach in AML/CFT frameworks\nDetermining the level of due diligence based on risk\nIntegrating adverse media screening into the CRA process\nCommon pitfalls and best practices in carrying out CRA\nLinking the CRA to broader AML/CFT compliance obligations and ongoing monitoring\n\nParticipants will gain insights into how to effectively design\, document\, and apply a customer risk assessment methodology that aligns with both international standards and jurisdiction-specific requirements. \nKey Topics: \n\nThe 4 Pillars of the CRA\nDetermining the appropriate level of Customer Due Diligence (CDD & EDD)\nAdverse media/news – its role and how to integrate it into the CRA\nConnecting the CRA to the entire customer lifecycle\nMonitoring\, review\, and updates of CRA\nLinking the CRA to the BRA and JRA\nThematic Reviews and Key takeaways from FIAU Factsheets\n\nWho Should Attend: \n\nMLROs\, Compliance Officers\, and Risk Officers\nDirectors\, Senior Management\, and Professionals responsible for AML/CFT compliance\nOnboarding and KYC teams\nInternal auditors and legal advisors\n\nTrainer: Jeanette Gatt\, Chief Compliance Advisory Officer: AML/CFT and Compliance Certified Professional with extensive experience in Banking\, CSPs and other subject person setups\, having occupied key role functions over the years. \nPlatform: Microsoft Teams (link will be provided upon registration) \nEvent has a maximum capacity – Kindly register early to secure your participation.
URL:https://diligex.eu/event/aml-cft-training-webinar/
ORGANIZER;CN="Diligex":MAILTO:info@diligex.eu
LOCATION:https://diligex.eu/event/aml-cft-training-webinar/
END:VEVENT
END:VCALENDAR